BEGIN:VCALENDAR
VERSION:2.0
PRODID:-//eventon.com NONSGML v1.0//EN
BEGIN:VEVENT
UID:69e7340403941
DTSTAMP:20260421T092332
DTSTART:20190809T230000Z
DTEND:20190811T225900Z
LOCATION:Saddleworth School High Street\,  Uppermill\,  OL36BU
SUMMARY:Yanks are Back in Saddleworth 2019
DESCRIPTION: Yanks are Back in Saddleworth 2019
END:VEVENT
END:VCALENDAR