BEGIN:VCALENDAR
VERSION:2.0
PRODID:-//eventon.com NONSGML v1.0//EN
BEGIN:VEVENT
UID:69e9ddb23fdb0
DTSTAMP:20260423T095202
DTSTART:20180810T230000Z
DTEND:20180812T225900Z
LOCATION:Saddleworth School High Street\,  Uppermill\,  OL36BU
SUMMARY:The Yanks Are Back In Saddleworth
DESCRIPTION: Saturday: BBMF Flypast 13:00 Sunday:  Yanks Parade 12:00\,  BBMF Flypast 15:20 Notice from event organisers: PARADE SUNDAY 12th AUGUST Very Important Information!! On Sunday we have our annual foot and vehicle parade through the village\,  commencing from Noon. For safety\,  please can we ask that visitors who attend remain on[..]
END:VEVENT
END:VCALENDAR